BEGIN:VCALENDAR
PRODID:-//eluceo/ical//2.0/EN
VERSION:2.0
CALSCALE:GREGORIAN
BEGIN:VEVENT
UID:c1383daebf157179111accf6917efdbd
DTSTAMP:20260424T030702Z
SUMMARY:Run4Change
DESCRIPTION:Webseite: https://www.stadt-zuerich.ch/ssd/de/index/sport/sport
 anlagen/leichtathletik/leichtathletikanlage-sihlhoelzli.html
URL:https://zurich-international.rotary2000.ch/de/agenda/show/152020
DTSTART;TZID=Europe/Zurich:20230402T080000
DTEND;TZID=Europe/Zurich:20230402T180000
LOCATION:Sportzentrum Sihlhölzli
CATEGORIES:Rotary
END:VEVENT
BEGIN:VTIMEZONE
TZID:Europe/Zurich
BEGIN:DAYLIGHT
DTSTART:20230402T080000
TZNAME:CEST
TZOFFSETTO:+0200
TZOFFSETFROM:+0200
END:DAYLIGHT
END:VTIMEZONE
END:VCALENDAR
